BEGIN:VCALENDAR
VERSION:2.0
PRODID:-//ProAct Inc - ECPv6.14.2//NONSGML v1.0//EN
CALSCALE:GREGORIAN
METHOD:PUBLISH
X-ORIGINAL-URL:https://www.proactinc.org
X-WR-CALDESC:Events for ProAct Inc
REFRESH-INTERVAL;VALUE=DURATION:PT1H
X-Robots-Tag:noindex
X-PUBLISHED-TTL:PT1H
BEGIN:VTIMEZONE
TZID:UTC
BEGIN:STANDARD
TZOFFSETFROM:+0000
TZOFFSETTO:+0000
TZNAME:UTC
DTSTART:20250101T000000
END:STANDARD
END:VTIMEZONE
BEGIN:VEVENT
DTSTART;TZID=UTC:20251225T080000
DTEND;TZID=UTC:20251225T170000
DTSTAMP:20260421T215900
CREATED:20241219T224722Z
LAST-MODIFIED:20241219T224722Z
UID:897-1766649600-1766682000@www.proactinc.org
SUMMARY:Closed\, Christmas Day
DESCRIPTION:
URL:https://www.proactinc.org/event/closed-christmas-day/
END:VEVENT
BEGIN:VEVENT
DTSTART;TZID=UTC:20251226T080000
DTEND;TZID=UTC:20251226T170000
DTSTAMP:20260421T215900
CREATED:20241219T224750Z
LAST-MODIFIED:20241219T224750Z
UID:898-1766736000-1766768400@www.proactinc.org
SUMMARY:Closed\, Day After Christmas
DESCRIPTION:
URL:https://www.proactinc.org/event/closed-day-after-christmas/
END:VEVENT
BEGIN:VEVENT
DTSTART;TZID=UTC:20260101T080000
DTEND;TZID=UTC:20260101T170000
DTSTAMP:20260421T215900
CREATED:20241219T224823Z
LAST-MODIFIED:20241219T224823Z
UID:899-1767254400-1767286800@www.proactinc.org
SUMMARY:Closed\, New Year's Day
DESCRIPTION:
URL:https://www.proactinc.org/event/closed-new-years-day-2/
END:VEVENT
BEGIN:VEVENT
DTSTART;VALUE=DATE:20260106
DTEND;VALUE=DATE:20260107
DTSTAMP:20260421T215900
CREATED:20250625T161410Z
LAST-MODIFIED:20250625T161410Z
UID:1063-1767657600-1767743999@www.proactinc.org
SUMMARY:November Financials
DESCRIPTION:
URL:https://www.proactinc.org/event/november-financials/
END:VEVENT
BEGIN:VEVENT
DTSTART;VALUE=DATE:20260203
DTEND;VALUE=DATE:20260204
DTSTAMP:20260421T215900
CREATED:20250625T161732Z
LAST-MODIFIED:20250625T161732Z
UID:1064-1770076800-1770163199@www.proactinc.org
SUMMARY:December Financials
DESCRIPTION:
URL:https://www.proactinc.org/event/december-financials/
END:VEVENT
BEGIN:VEVENT
DTSTART;VALUE=DATE:20260303
DTEND;VALUE=DATE:20260304
DTSTAMP:20260421T215900
CREATED:20250625T161807Z
LAST-MODIFIED:20250625T161807Z
UID:1065-1772496000-1772582399@www.proactinc.org
SUMMARY:January Financials
DESCRIPTION:
URL:https://www.proactinc.org/event/january-financials/
END:VEVENT
BEGIN:VEVENT
DTSTART;VALUE=DATE:20260407
DTEND;VALUE=DATE:20260408
DTSTAMP:20260421T215900
CREATED:20250625T161843Z
LAST-MODIFIED:20250625T161843Z
UID:1066-1775520000-1775606399@www.proactinc.org
SUMMARY:February Financials
DESCRIPTION:
URL:https://www.proactinc.org/event/february-financials/
END:VEVENT
BEGIN:VEVENT
DTSTART;VALUE=DATE:20260505
DTEND;VALUE=DATE:20260506
DTSTAMP:20260421T215900
CREATED:20250625T161918Z
LAST-MODIFIED:20250625T161918Z
UID:1067-1777939200-1778025599@www.proactinc.org
SUMMARY:March Financials
DESCRIPTION:
URL:https://www.proactinc.org/event/march-financials/
END:VEVENT
BEGIN:VEVENT
DTSTART;VALUE=DATE:20260602
DTEND;VALUE=DATE:20260603
DTSTAMP:20260421T215900
CREATED:20250625T161948Z
LAST-MODIFIED:20250625T161948Z
UID:1068-1780358400-1780444799@www.proactinc.org
SUMMARY:April Financials
DESCRIPTION:
URL:https://www.proactinc.org/event/april-financials/
END:VEVENT
END:VCALENDAR